BEGIN:VCALENDAR
VERSION:2.0
PRODID:icalendar-ruby
CALSCALE:GREGORIAN
BEGIN:VEVENT
DTSTAMP:20260419T131404Z
UID:a0e587f5-ed5b-41e3-96e2-2b185beef719
DTSTART;VALUE=DATE:20250306
DESCRIPTION:Property ID# 588105\, Locatoin: 2/153 Karori Road\, Wellington\
 , Time: 12:00PM
SUMMARY:Auction for 
END:VEVENT
END:VCALENDAR
