BEGIN:VCALENDAR
VERSION:2.0
PRODID:icalendar-ruby
CALSCALE:GREGORIAN
BEGIN:VEVENT
DTSTAMP:20260421T134455Z
UID:aea15571-a8ca-4b70-a2cc-75cad31da6a8
DTSTART;VALUE=DATE:20210321
DESCRIPTION:Property ID# 502839\, Time: 11:00AM
SUMMARY:Auction for 
END:VEVENT
END:VCALENDAR
