BEGIN:VCALENDAR
VERSION:2.0
PRODID:icalendar-ruby
CALSCALE:GREGORIAN
BEGIN:VEVENT
DTSTAMP:20260421T164933Z
UID:61eb152a-b2d1-431e-b447-b6ceab4b16ea
DTSTART;VALUE=DATE:20200621
DESCRIPTION:Property ID# 481356\, Locatoin: on site\, Time: 11:00AM
SUMMARY:Auction for 
END:VEVENT
END:VCALENDAR
