BEGIN:VCALENDAR
VERSION:2.0
PRODID:icalendar-ruby
CALSCALE:GREGORIAN
BEGIN:VEVENT
DTSTAMP:20260421T164607Z
UID:7785771d-4893-4907-bf09-aefb767aeaa9
DTSTART;VALUE=DATE:20200625
DESCRIPTION:Property ID# 481175\, Locatoin: In rooms Takapuna Harcourts\, T
 ime: 6:30PM
SUMMARY:Auction for 
END:VEVENT
END:VCALENDAR
