BEGIN:VCALENDAR
VERSION:2.0
PRODID:icalendar-ruby
CALSCALE:GREGORIAN
BEGIN:VEVENT
DTSTAMP:20260421T164931Z
UID:def8bcd8-0b6e-4dd3-a339-f7d3c1fac95e
DTSTART;VALUE=DATE:20200404
DESCRIPTION:Property ID# 476007\, Locatoin: On Site\, Time: 11:00AM
SUMMARY:Auction for 
END:VEVENT
END:VCALENDAR
