BEGIN:VCALENDAR
VERSION:2.0
PRODID:icalendar-ruby
CALSCALE:GREGORIAN
BEGIN:VEVENT
DTSTAMP:20260421T164525Z
UID:02970f45-e30b-4329-9582-d039b6d973df
DTSTART;VALUE=DATE:20200302
DESCRIPTION:Property ID# 472524\, Locatoin: On site\, Time: 6:00PM
SUMMARY:Auction for 
END:VEVENT
END:VCALENDAR
