BEGIN:VCALENDAR
VERSION:2.0
PRODID:icalendar-ruby
CALSCALE:GREGORIAN
BEGIN:VEVENT
DTSTAMP:20260421T164250Z
UID:2bda8d7c-6247-4e8f-b091-fbe8186cffc9
DTSTART;VALUE=DATE:20200209
DESCRIPTION:Property ID# 470697\, Locatoin: On Site\, Time: 1:00PM
SUMMARY:Auction for 
END:VEVENT
END:VCALENDAR
