BEGIN:VCALENDAR
VERSION:2.0
PRODID:icalendar-ruby
CALSCALE:GREGORIAN
BEGIN:VEVENT
DTSTAMP:20260421T164145Z
UID:7304c71f-ea8f-4f51-9349-5869664b31a6
DTSTART;VALUE=DATE:20200218
DESCRIPTION:Property ID# 469479\, Time: 4:00PM
SUMMARY:Auction for 
END:VEVENT
END:VCALENDAR
