BEGIN:VCALENDAR
VERSION:2.0
PRODID:icalendar-ruby
CALSCALE:GREGORIAN
BEGIN:VEVENT
DTSTAMP:20260421T164337Z
UID:5adcf3d7-1bbc-4112-8f5c-ed2ea817ac12
DTSTART;VALUE=DATE:20191025
DESCRIPTION:Property ID# 463997\, Locatoin: On Site\, Time: 1:00PM
SUMMARY:Auction for 
END:VEVENT
END:VCALENDAR
