BEGIN:VCALENDAR
VERSION:2.0
PRODID:icalendar-ruby
CALSCALE:GREGORIAN
BEGIN:VEVENT
DTSTAMP:20260421T164443Z
UID:ecdd4141-4686-4b64-86c5-910853626f95
DTSTART;VALUE=DATE:20191004
DESCRIPTION:Property ID# 462077\, Locatoin: Harcourts 18 Clarence Street\, 
 Devonport\, 0624\, Time: 4:00PM
SUMMARY:Auction for 
END:VEVENT
END:VCALENDAR
